BEGIN:VCALENDAR
VERSION:2.0
PRODID:-//Gemeinde Wankendorf - ECPv6.15.20//NONSGML v1.0//EN
CALSCALE:GREGORIAN
METHOD:PUBLISH
X-ORIGINAL-URL:https://wankendorf.de
X-WR-CALDESC:Veranstaltungen für Gemeinde Wankendorf
REFRESH-INTERVAL;VALUE=DURATION:PT1H
X-Robots-Tag:noindex
X-PUBLISHED-TTL:PT1H
BEGIN:VTIMEZONE
TZID:UTC
BEGIN:STANDARD
TZOFFSETFROM:+0000
TZOFFSETTO:+0000
TZNAME:UTC
DTSTART:20250101T000000
END:STANDARD
END:VTIMEZONE
BEGIN:VEVENT
DTSTART;TZID=UTC:20261125T190000
DTEND;TZID=UTC:20261125T190000
DTSTAMP:20260421T172221
CREATED:20260122T084207Z
LAST-MODIFIED:20260219T095457Z
UID:25546442-1795633200-1795633200@wankendorf.de
SUMMARY:Umwelt- und Sozialausschuss Wankendorf
DESCRIPTION:Umweltschutzmaßnahmen\, Gesundheitswesen\, Wohnungswesen\, Kinder-\, Jugend– und Seniorenangelegenheiten\, Schulangelegenheiten\, Kindertageseinrichtungen\, Förderung und Pflege der Verbände und Vereine\, Tourismusangelegenheiten besprochen.\nEin Tagesordnungspunkt ist die Einwohnerfragezeit\, in der alle Einwohner die Möglichkeit haben ihre Anregungen\, Fragen und Ideen anzubringen.
URL:https://wankendorf.de/veranstaltung/umwelt-und-sozialausschuss/
LOCATION:Familienzentrum Wankendorf\, Kirchtor 18\, Wankendor
CATEGORIES:Politik
ORGANIZER;CN="Gemeinde Wankendorf":MAILTO:buergermeisterin@wankendorf.de
END:VEVENT
BEGIN:VEVENT
DTSTART;TZID=UTC:20261126T193000
DTEND;TZID=UTC:20261126T210000
DTSTAMP:20260421T172221
CREATED:20260122T084412Z
LAST-MODIFIED:20260219T095435Z
UID:25546444-1795721400-1795726800@wankendorf.de
SUMMARY:Bauausschuss Wankendorf
DESCRIPTION:Bei diesem für die Öffentlichkeit zugänglichen Ausschuss werden Belange aus den Bereichen Städtebauförderung\, Ortsentwicklung einschließlich Bauleitplanung\, Straßen- und Wegebau\, Erschließungsmaßnahmen sowie sonstige Bauvorhaben der Gemeinde besprochen.\nEin Tagesordnungspunkt ist die Einwohnerfragezeit\, in der alle Einwohner die Möglichkeit haben ihre Anregungen\, Fragen und Ideen anzubringen.
URL:https://wankendorf.de/veranstaltung/bauausschuss-wankendorf-3/
LOCATION:Familienzentrum Wankendorf\, Kirchtor 18\, Wankendor
CATEGORIES:Politik
ORGANIZER;CN="Gemeinde Wankendorf":MAILTO:buergermeisterin@wankendorf.de
END:VEVENT
BEGIN:VEVENT
DTSTART;TZID=UTC:20261130T190000
DTEND;TZID=UTC:20261130T213000
DTSTAMP:20260421T172221
CREATED:20260122T084536Z
LAST-MODIFIED:20260219T095413Z
UID:25546446-1796065200-1796074200@wankendorf.de
SUMMARY:Geschäftsausschuss Wankendorf
DESCRIPTION:In diesem für die Öffentlichkeit zugänglichen Ausschuss geht es um Prüfung der Jahresrechnung\, Finanzwesen\, Angelegenheiten der öffentlichen Sicherheit und Feuerwehrwesen\, Gemeindewerke (Wasser/PV)\, Satzungs- und Vertragsangelegenheiten\, Straßenbeleuchtung\, Aufgaben und Vorbereitung von Angelegenheiten der Gemeindevertretung\, die keinem anderen Ausschuss zugeordnet sind.\nEin Tagesordnungspunkt ist die Einwohnerfragezeit\, in der alle Einwohner die Möglichkeit haben ihre Anregungen\, Fragen und Ideen anzubringen.
URL:https://wankendorf.de/veranstaltung/geschaeftsausschuss-wankendorf-3/
LOCATION:Familienzentrum Wankendorf\, Kirchtor 18\, Wankendor
CATEGORIES:Politik
ORGANIZER;CN="Gemeinde Wankendorf":MAILTO:buergermeisterin@wankendorf.de
END:VEVENT
END:VCALENDAR